BEGIN:VCALENDAR
VERSION:2.0
PRODID:-//Glendale/Glendale Meadows Community Association - ECPv6.15.18//NONSGML v1.0//EN
CALSCALE:GREGORIAN
METHOD:PUBLISH
X-WR-CALNAME:Glendale/Glendale Meadows Community Association
X-ORIGINAL-URL:https://myglendale.ca
X-WR-CALDESC:Events for Glendale/Glendale Meadows Community Association
REFRESH-INTERVAL;VALUE=DURATION:PT1H
X-Robots-Tag:noindex
X-PUBLISHED-TTL:PT1H
BEGIN:VTIMEZONE
TZID:America/Edmonton
BEGIN:DAYLIGHT
TZOFFSETFROM:-0700
TZOFFSETTO:-0600
TZNAME:MDT
DTSTART:20180311T090000
END:DAYLIGHT
BEGIN:STANDARD
TZOFFSETFROM:-0600
TZOFFSETTO:-0700
TZNAME:MST
DTSTART:20181104T080000
END:STANDARD
BEGIN:DAYLIGHT
TZOFFSETFROM:-0700
TZOFFSETTO:-0600
TZNAME:MDT
DTSTART:20190310T090000
END:DAYLIGHT
BEGIN:STANDARD
TZOFFSETFROM:-0600
TZOFFSETTO:-0700
TZNAME:MST
DTSTART:20191103T080000
END:STANDARD
BEGIN:DAYLIGHT
TZOFFSETFROM:-0700
TZOFFSETTO:-0600
TZNAME:MDT
DTSTART:20200308T090000
END:DAYLIGHT
BEGIN:STANDARD
TZOFFSETFROM:-0600
TZOFFSETTO:-0700
TZNAME:MST
DTSTART:20201101T080000
END:STANDARD
END:VTIMEZONE
BEGIN:VEVENT
DTSTART;TZID=America/Edmonton:20190612T090000
DTEND;TZID=America/Edmonton:20190612T103000
DTSTAMP:20260421T034040
CREATED:20190606T222651Z
LAST-MODIFIED:20190606T222651Z
UID:1667-1560330000-1560335400@myglendale.ca
SUMMARY:Kids in the Hall Playgroup
DESCRIPTION:Join us at the hall weekly for some play and socializing! Come relax with a cup of coffee and meet other parents / caregivers in the community- all are welcome! $2 Donations
URL:https://myglendale.ca/event/kids-in-the-hall-playgroup/
LOCATION:Glendale Community Hall\, 4500 25 Ave SW\, Calgary\, Alberta\, T3E 0M1\, Canada
ORGANIZER;CN="GGMCA":MAILTO:info@myglendale.ca
END:VEVENT
BEGIN:VEVENT
DTSTART;TZID=America/Edmonton:20190612T140000
DTEND;TZID=America/Edmonton:20190612T150000
DTSTAMP:20260421T034040
CREATED:20190425T022241Z
LAST-MODIFIED:20190425T022241Z
UID:1605-1560348000-1560351600@myglendale.ca
SUMMARY:Plus 50 and seniors planning meeting
DESCRIPTION:Everyone welcome to participate in developing programs and events for the +50 group. To date: Bridge group\, informal cycling  meetup and book club. Please RSVP: Monika membership@myglendale.ca
URL:https://myglendale.ca/event/plus-50-and-seniors-planning-meeting/
LOCATION:Glendale Community Hall\, 4500 25 Ave SW\, Calgary\, Alberta\, T3E 0M1\, Canada
END:VEVENT
BEGIN:VEVENT
DTSTART;TZID=America/Edmonton:20190612T190000
DTEND;TZID=America/Edmonton:20190612T210000
DTSTAMP:20260421T034040
CREATED:20190425T022334Z
LAST-MODIFIED:20190425T022334Z
UID:1607-1560366000-1560373200@myglendale.ca
SUMMARY:Glendale AGM
DESCRIPTION:Everyone welcome. Only members living in Glendale and Glendale Meadows May vote or stand for office.
URL:https://myglendale.ca/event/glendale-agm/
LOCATION:Glendale Community Hall\, 4500 25 Ave SW\, Calgary\, Alberta\, T3E 0M1\, Canada
END:VEVENT
END:VCALENDAR