BEGIN:VCALENDAR
VERSION:2.0
PRODID:-//Glendale/Glendale Meadows Community Association - ECPv6.15.18//NONSGML v1.0//EN
CALSCALE:GREGORIAN
METHOD:PUBLISH
X-ORIGINAL-URL:https://myglendale.ca
X-WR-CALDESC:Events for Glendale/Glendale Meadows Community Association
REFRESH-INTERVAL;VALUE=DURATION:PT1H
X-Robots-Tag:noindex
X-PUBLISHED-TTL:PT1H
BEGIN:VTIMEZONE
TZID:America/Edmonton
BEGIN:DAYLIGHT
TZOFFSETFROM:-0700
TZOFFSETTO:-0600
TZNAME:MDT
DTSTART:20180311T090000
END:DAYLIGHT
BEGIN:STANDARD
TZOFFSETFROM:-0600
TZOFFSETTO:-0700
TZNAME:MST
DTSTART:20181104T080000
END:STANDARD
BEGIN:DAYLIGHT
TZOFFSETFROM:-0700
TZOFFSETTO:-0600
TZNAME:MDT
DTSTART:20190310T090000
END:DAYLIGHT
BEGIN:STANDARD
TZOFFSETFROM:-0600
TZOFFSETTO:-0700
TZNAME:MST
DTSTART:20191103T080000
END:STANDARD
BEGIN:DAYLIGHT
TZOFFSETFROM:-0700
TZOFFSETTO:-0600
TZNAME:MDT
DTSTART:20200308T090000
END:DAYLIGHT
BEGIN:STANDARD
TZOFFSETFROM:-0600
TZOFFSETTO:-0700
TZNAME:MST
DTSTART:20201101T080000
END:STANDARD
END:VTIMEZONE
BEGIN:VEVENT
DTSTART;TZID=America/Edmonton:20190615T110000
DTEND;TZID=America/Edmonton:20190615T140000
DTSTAMP:20260421T034329
CREATED:20190607T034132Z
LAST-MODIFIED:20190607T034203Z
UID:1678-1560596400-1560607200@myglendale.ca
SUMMARY:Glendale Neighbour Day 2019 Community BBQ
DESCRIPTION:Please join us for a BBQ social for all Glendale/Glendale Meadows residents to celebrate Neighbour Day 2019! Join us for hot dogs\, lawn games\, and face painting. \nFeel free to bring any lawn games (bocci ball\, corn hole\, croquet\, ladder ball…) \nRSVP by June 7th @ http://evite.me/X2kNxQjEyx
URL:https://myglendale.ca/event/neighbour-day/
LOCATION:Glendale Community Hall\, 4500 25 Ave SW\, Calgary\, Alberta\, T3E 0M1\, Canada
ORGANIZER;CN="GGMCA":MAILTO:info@myglendale.ca
END:VEVENT
END:VCALENDAR