BEGIN:VCALENDAR
VERSION:2.0
PRODID:-//Glendale/Glendale Meadows Community Association - ECPv6.15.18//NONSGML v1.0//EN
CALSCALE:GREGORIAN
METHOD:PUBLISH
X-WR-CALNAME:Glendale/Glendale Meadows Community Association
X-ORIGINAL-URL:https://myglendale.ca
X-WR-CALDESC:Events for Glendale/Glendale Meadows Community Association
REFRESH-INTERVAL;VALUE=DURATION:PT1H
X-Robots-Tag:noindex
X-PUBLISHED-TTL:PT1H
BEGIN:VTIMEZONE
TZID:America/Edmonton
BEGIN:DAYLIGHT
TZOFFSETFROM:-0700
TZOFFSETTO:-0600
TZNAME:MDT
DTSTART:20190310T090000
END:DAYLIGHT
BEGIN:STANDARD
TZOFFSETFROM:-0600
TZOFFSETTO:-0700
TZNAME:MST
DTSTART:20191103T080000
END:STANDARD
BEGIN:DAYLIGHT
TZOFFSETFROM:-0700
TZOFFSETTO:-0600
TZNAME:MDT
DTSTART:20200308T090000
END:DAYLIGHT
BEGIN:STANDARD
TZOFFSETFROM:-0600
TZOFFSETTO:-0700
TZNAME:MST
DTSTART:20201101T080000
END:STANDARD
BEGIN:DAYLIGHT
TZOFFSETFROM:-0700
TZOFFSETTO:-0600
TZNAME:MDT
DTSTART:20210314T090000
END:DAYLIGHT
BEGIN:STANDARD
TZOFFSETFROM:-0600
TZOFFSETTO:-0700
TZNAME:MST
DTSTART:20211107T080000
END:STANDARD
END:VTIMEZONE
BEGIN:VEVENT
DTSTART;TZID=America/Edmonton:20200412T090000
DTEND;TZID=America/Edmonton:20200412T110000
DTSTAMP:20260421T040234
CREATED:20200409T234856Z
LAST-MODIFIED:20200409T234856Z
UID:1914-1586682000-1586689200@myglendale.ca
SUMMARY:Glendale’s Easter Bunny will be on our roads (starting near the Community Hall)
DESCRIPTION:The Easter Bunny will be visiting the neighborhood in his Bunnymobile–check out the Easter Bunny Trail map (below) to see him as he drives by.  He’d love to see you in your Easter finery and dress! \nPlease stay on the sidewalk or on your porch and wave! And say Hi!  Show what a great community we have. \n\n\n(Unfortunately\, this year\, he won’t be bringing goodies in his bunnymobile.)
URL:https://myglendale.ca/event/glendales-easter-bunny-will-be-on-our-roads-starting-near-the-community-hall/
LOCATION:AB
END:VEVENT
END:VCALENDAR