BEGIN:VCALENDAR
VERSION:2.0
PRODID:-//Glendale/Glendale Meadows Community Association - ECPv6.15.18//NONSGML v1.0//EN
CALSCALE:GREGORIAN
METHOD:PUBLISH
X-WR-CALNAME:Glendale/Glendale Meadows Community Association
X-ORIGINAL-URL:https://myglendale.ca
X-WR-CALDESC:Events for Glendale/Glendale Meadows Community Association
REFRESH-INTERVAL;VALUE=DURATION:PT1H
X-Robots-Tag:noindex
X-PUBLISHED-TTL:PT1H
BEGIN:VTIMEZONE
TZID:America/Edmonton
BEGIN:DAYLIGHT
TZOFFSETFROM:-0700
TZOFFSETTO:-0600
TZNAME:MDT
DTSTART:20200308T090000
END:DAYLIGHT
BEGIN:STANDARD
TZOFFSETFROM:-0600
TZOFFSETTO:-0700
TZNAME:MST
DTSTART:20201101T080000
END:STANDARD
BEGIN:DAYLIGHT
TZOFFSETFROM:-0700
TZOFFSETTO:-0600
TZNAME:MDT
DTSTART:20210314T090000
END:DAYLIGHT
BEGIN:STANDARD
TZOFFSETFROM:-0600
TZOFFSETTO:-0700
TZNAME:MST
DTSTART:20211107T080000
END:STANDARD
BEGIN:DAYLIGHT
TZOFFSETFROM:-0700
TZOFFSETTO:-0600
TZNAME:MDT
DTSTART:20220313T090000
END:DAYLIGHT
BEGIN:STANDARD
TZOFFSETFROM:-0600
TZOFFSETTO:-0700
TZNAME:MST
DTSTART:20221106T080000
END:STANDARD
END:VTIMEZONE
BEGIN:VEVENT
DTSTART;TZID=America/Edmonton:20210620T150000
DTEND;TZID=America/Edmonton:20210620T200000
DTSTAMP:20260420T034344
CREATED:20210505T191917Z
LAST-MODIFIED:20210505T191917Z
UID:2021-1624201200-1624219200@myglendale.ca
SUMMARY:YYC Food Trucks
DESCRIPTION:Food trucks will be located at the corner of 25th Avenue and Glenmount Dr SW\, near the hockey rink.
URL:https://myglendale.ca/event/yyc-food-trucks/
LOCATION:Glendale Community Hall\, 4500 25 Ave SW\, Calgary\, Alberta\, T3E 0M1\, Canada
END:VEVENT
BEGIN:VEVENT
DTSTART;TZID=America/Edmonton:20210620T173000
DTEND;TZID=America/Edmonton:20210620T173000
DTSTAMP:20260420T034344
CREATED:20210505T192015Z
LAST-MODIFIED:20210505T192015Z
UID:2023-1624210200-1624210200@myglendale.ca
SUMMARY:50/50 Raffle Draw
DESCRIPTION:Glendale/Glendale Meadows Community Association is excited to announce a $5\,000 50/50 fundraiser in support of the I Love Glendale: Hall Rebuilding Campaign.  \nTicket sales are limited\, and the winner will receive a minimum cash prize of $1\,000 or 50% of ticket sales (whichever is greater) up to a maximum of $2\,500. \nHELP US REBUILD THE GLENDALE COMMUNITY HALL \n\nCLICK HERE TO BUY YOUR TICKETS
URL:https://myglendale.ca/event/50-50-raffle-draw/
LOCATION:Glendale Community Hall\, 4500 25 Ave SW\, Calgary\, Alberta\, T3E 0M1\, Canada
END:VEVENT
END:VCALENDAR