BEGIN:VCALENDAR
VERSION:2.0
PRODID:-//Glendale/Glendale Meadows Community Association - ECPv6.15.18//NONSGML v1.0//EN
CALSCALE:GREGORIAN
METHOD:PUBLISH
X-WR-CALNAME:Glendale/Glendale Meadows Community Association
X-ORIGINAL-URL:https://myglendale.ca
X-WR-CALDESC:Events for Glendale/Glendale Meadows Community Association
REFRESH-INTERVAL;VALUE=DURATION:PT1H
X-Robots-Tag:noindex
X-PUBLISHED-TTL:PT1H
BEGIN:VTIMEZONE
TZID:America/Edmonton
BEGIN:DAYLIGHT
TZOFFSETFROM:-0700
TZOFFSETTO:-0600
TZNAME:MDT
DTSTART:20180311T090000
END:DAYLIGHT
BEGIN:STANDARD
TZOFFSETFROM:-0600
TZOFFSETTO:-0700
TZNAME:MST
DTSTART:20181104T080000
END:STANDARD
BEGIN:DAYLIGHT
TZOFFSETFROM:-0700
TZOFFSETTO:-0600
TZNAME:MDT
DTSTART:20190310T090000
END:DAYLIGHT
BEGIN:STANDARD
TZOFFSETFROM:-0600
TZOFFSETTO:-0700
TZNAME:MST
DTSTART:20191103T080000
END:STANDARD
BEGIN:DAYLIGHT
TZOFFSETFROM:-0700
TZOFFSETTO:-0600
TZNAME:MDT
DTSTART:20200308T090000
END:DAYLIGHT
BEGIN:STANDARD
TZOFFSETFROM:-0600
TZOFFSETTO:-0700
TZNAME:MST
DTSTART:20201101T080000
END:STANDARD
END:VTIMEZONE
BEGIN:VEVENT
DTSTART;VALUE=DATE:20190603
DTEND;VALUE=DATE:20190604
DTSTAMP:20260421T020508
CREATED:20190529T222919Z
LAST-MODIFIED:20190529T222919Z
UID:1622-1559520000-1559606399@myglendale.ca
SUMMARY:Yoga at Glendale
DESCRIPTION:Please visit https://registrationsystem.strategicconsultinggroup.ca/ggmca/ to sign up.
URL:https://myglendale.ca/event/yoga-at-glendale/
LOCATION:Glendale Community Hall\, 4500 25 Ave SW\, Calgary\, Alberta\, T3E 0M1\, Canada
END:VEVENT
BEGIN:VEVENT
DTSTART;VALUE=DATE:20190610
DTEND;VALUE=DATE:20190611
DTSTAMP:20260421T020508
CREATED:20190529T223032Z
LAST-MODIFIED:20190529T223032Z
UID:1624-1560124800-1560211199@myglendale.ca
SUMMARY:Yoga at Glendale
DESCRIPTION:Please visit https://registrationsystem.strategicconsultinggroup.ca/ggmca/to register
URL:https://myglendale.ca/event/yoga-at-glendale-2/
LOCATION:Glendale Community Hall\, 4500 25 Ave SW\, Calgary\, Alberta\, T3E 0M1\, Canada
END:VEVENT
BEGIN:VEVENT
DTSTART;TZID=America/Edmonton:20190612T090000
DTEND;TZID=America/Edmonton:20190612T103000
DTSTAMP:20260421T020508
CREATED:20190606T222651Z
LAST-MODIFIED:20190606T222651Z
UID:1667-1560330000-1560335400@myglendale.ca
SUMMARY:Kids in the Hall Playgroup
DESCRIPTION:Join us at the hall weekly for some play and socializing! Come relax with a cup of coffee and meet other parents / caregivers in the community- all are welcome! $2 Donations
URL:https://myglendale.ca/event/kids-in-the-hall-playgroup/
LOCATION:Glendale Community Hall\, 4500 25 Ave SW\, Calgary\, Alberta\, T3E 0M1\, Canada
ORGANIZER;CN="GGMCA":MAILTO:info@myglendale.ca
END:VEVENT
BEGIN:VEVENT
DTSTART;TZID=America/Edmonton:20190612T140000
DTEND;TZID=America/Edmonton:20190612T150000
DTSTAMP:20260421T020508
CREATED:20190425T022241Z
LAST-MODIFIED:20190425T022241Z
UID:1605-1560348000-1560351600@myglendale.ca
SUMMARY:Plus 50 and seniors planning meeting
DESCRIPTION:Everyone welcome to participate in developing programs and events for the +50 group. To date: Bridge group\, informal cycling  meetup and book club. Please RSVP: Monika membership@myglendale.ca
URL:https://myglendale.ca/event/plus-50-and-seniors-planning-meeting/
LOCATION:Glendale Community Hall\, 4500 25 Ave SW\, Calgary\, Alberta\, T3E 0M1\, Canada
END:VEVENT
BEGIN:VEVENT
DTSTART;TZID=America/Edmonton:20190612T190000
DTEND;TZID=America/Edmonton:20190612T210000
DTSTAMP:20260421T020508
CREATED:20190425T022334Z
LAST-MODIFIED:20190425T022334Z
UID:1607-1560366000-1560373200@myglendale.ca
SUMMARY:Glendale AGM
DESCRIPTION:Everyone welcome. Only members living in Glendale and Glendale Meadows May vote or stand for office.
URL:https://myglendale.ca/event/glendale-agm/
LOCATION:Glendale Community Hall\, 4500 25 Ave SW\, Calgary\, Alberta\, T3E 0M1\, Canada
END:VEVENT
BEGIN:VEVENT
DTSTART;TZID=America/Edmonton:20190615T110000
DTEND;TZID=America/Edmonton:20190615T140000
DTSTAMP:20260421T020508
CREATED:20190607T034132Z
LAST-MODIFIED:20190607T034203Z
UID:1678-1560596400-1560607200@myglendale.ca
SUMMARY:Glendale Neighbour Day 2019 Community BBQ
DESCRIPTION:Please join us for a BBQ social for all Glendale/Glendale Meadows residents to celebrate Neighbour Day 2019! Join us for hot dogs\, lawn games\, and face painting. \nFeel free to bring any lawn games (bocci ball\, corn hole\, croquet\, ladder ball…) \nRSVP by June 7th @ http://evite.me/X2kNxQjEyx
URL:https://myglendale.ca/event/neighbour-day/
LOCATION:Glendale Community Hall\, 4500 25 Ave SW\, Calgary\, Alberta\, T3E 0M1\, Canada
ORGANIZER;CN="GGMCA":MAILTO:info@myglendale.ca
END:VEVENT
BEGIN:VEVENT
DTSTART;VALUE=DATE:20190617
DTEND;VALUE=DATE:20190618
DTSTAMP:20260421T020508
CREATED:20190529T223103Z
LAST-MODIFIED:20190529T223103Z
UID:1626-1560729600-1560815999@myglendale.ca
SUMMARY:Yoga at Glendale
DESCRIPTION:Please visit https://registrationsystem.strategicconsultinggroup.ca/ggmca/ to register
URL:https://myglendale.ca/event/yoga-at-glendale-3/
LOCATION:Glendale Community Hall\, 4500 25 Ave SW\, Calgary\, Alberta\, T3E 0M1\, Canada
END:VEVENT
BEGIN:VEVENT
DTSTART;TZID=America/Edmonton:20190619T090000
DTEND;TZID=America/Edmonton:20190619T103000
DTSTAMP:20260421T020508
CREATED:20190606T222954Z
LAST-MODIFIED:20190606T222954Z
UID:1670-1560934800-1560940200@myglendale.ca
SUMMARY:Kids in the Hall Playgroup
DESCRIPTION:Join us at the hall weekly for some play and socializing! Come relax with a cup of coffee and meet other parents / caregivers in the community- all are welcome! $2 Donations
URL:https://myglendale.ca/event/kids-in-the-hall-playgroup-2/
LOCATION:Glendale Community Hall\, 4500 25 Ave SW\, Calgary\, Alberta\, T3E 0M1\, Canada
ORGANIZER;CN="GGMCA":MAILTO:info@myglendale.ca
END:VEVENT
BEGIN:VEVENT
DTSTART;TZID=America/Edmonton:20190622T173000
DTEND;TZID=America/Edmonton:20190622T210000
DTSTAMP:20260421T020508
CREATED:20190606T221913Z
LAST-MODIFIED:20190606T224706Z
UID:1662-1561224600-1561237200@myglendale.ca
SUMMARY:Glendale Movie Night
DESCRIPTION:Doors open at 5:30 pm\, show starts at 6pm. Bring your favourite sleeping bag or comfy chair to enjoy a movie in the hall. Popcorn will be provided with other snacks and drinks available for purchase. $5 donation appreciated. \nPlease RSVP: social@myglendale.ca
URL:https://myglendale.ca/event/glendale-movie-night/
LOCATION:Glendale Community Hall\, 4500 25 Ave SW\, Calgary\, Alberta\, T3E 0M1\, Canada
END:VEVENT
BEGIN:VEVENT
DTSTART;VALUE=DATE:20190624
DTEND;VALUE=DATE:20190625
DTSTAMP:20260421T020508
CREATED:20190529T223127Z
LAST-MODIFIED:20190529T223127Z
UID:1628-1561334400-1561420799@myglendale.ca
SUMMARY:Yoga at Glendale
DESCRIPTION:Please visit https://registrationsystem.strategicconsultinggroup.ca/ggmca/ to register
URL:https://myglendale.ca/event/yoga-at-glendale-4/
LOCATION:Glendale Community Hall\, 4500 25 Ave SW\, Calgary\, Alberta\, T3E 0M1\, Canada
END:VEVENT
BEGIN:VEVENT
DTSTART;TZID=America/Edmonton:20190626T090000
DTEND;TZID=America/Edmonton:20190626T103000
DTSTAMP:20260421T020508
CREATED:20190606T223041Z
LAST-MODIFIED:20190606T223041Z
UID:1673-1561539600-1561545000@myglendale.ca
SUMMARY:Kids in the Hall Playgroup
DESCRIPTION:Join us at the hall weekly for some play and socializing! Come relax with a cup of coffee and meet other parents / caregivers in the community- all are welcome! $2 Donations
URL:https://myglendale.ca/event/kids-in-the-hall-playgroup-3/
LOCATION:Glendale Community Hall\, 4500 25 Ave SW\, Calgary\, Alberta\, T3E 0M1\, Canada
ORGANIZER;CN="GGMCA":MAILTO:info@myglendale.ca
END:VEVENT
END:VCALENDAR