BEGIN:VCALENDAR
VERSION:2.0
PRODID:-//Glendale/Glendale Meadows Community Association - ECPv6.15.18//NONSGML v1.0//EN
CALSCALE:GREGORIAN
METHOD:PUBLISH
X-WR-CALNAME:Glendale/Glendale Meadows Community Association
X-ORIGINAL-URL:https://myglendale.ca
X-WR-CALDESC:Events for Glendale/Glendale Meadows Community Association
REFRESH-INTERVAL;VALUE=DURATION:PT1H
X-Robots-Tag:noindex
X-PUBLISHED-TTL:PT1H
BEGIN:VTIMEZONE
TZID:America/Edmonton
BEGIN:DAYLIGHT
TZOFFSETFROM:-0700
TZOFFSETTO:-0600
TZNAME:MDT
DTSTART:20180311T090000
END:DAYLIGHT
BEGIN:STANDARD
TZOFFSETFROM:-0600
TZOFFSETTO:-0700
TZNAME:MST
DTSTART:20181104T080000
END:STANDARD
BEGIN:DAYLIGHT
TZOFFSETFROM:-0700
TZOFFSETTO:-0600
TZNAME:MDT
DTSTART:20190310T090000
END:DAYLIGHT
BEGIN:STANDARD
TZOFFSETFROM:-0600
TZOFFSETTO:-0700
TZNAME:MST
DTSTART:20191103T080000
END:STANDARD
BEGIN:DAYLIGHT
TZOFFSETFROM:-0700
TZOFFSETTO:-0600
TZNAME:MDT
DTSTART:20200308T090000
END:DAYLIGHT
BEGIN:STANDARD
TZOFFSETFROM:-0600
TZOFFSETTO:-0700
TZNAME:MST
DTSTART:20201101T080000
END:STANDARD
END:VTIMEZONE
BEGIN:VEVENT
DTSTART;TZID=America/Edmonton:20191026T170000
DTEND;TZID=America/Edmonton:20191026T210000
DTSTAMP:20260421T083451
CREATED:20190912T025901Z
LAST-MODIFIED:20191010T012621Z
UID:1846-1572109200-1572123600@myglendale.ca
SUMMARY:Annual Family Halloween Dance
DESCRIPTION:Annual Family Halloween Dance Party! \nDress up and us for a fun-filled evening of dancing and activities. There will be a concession with pizza\, drinks\, and treats. \nTickets available here. \nMembers: $10/family \nNon-Members: $20/family
URL:https://myglendale.ca/event/annual-family-halloween-dance-2/
LOCATION:Glendale Community Hall\, 4500 25 Ave SW\, Calgary\, Alberta\, T3E 0M1\, Canada
ORGANIZER;CN="GGMCA":MAILTO:info@myglendale.ca
END:VEVENT
BEGIN:VEVENT
DTSTART;TZID=America/Edmonton:20191028T110000
DTEND;TZID=America/Edmonton:20191030T033000
DTSTAMP:20260421T083451
CREATED:20190912T022915Z
LAST-MODIFIED:20191010T014127Z
UID:1843-1572260400-1572406200@myglendale.ca
SUMMARY:Glendale Fundraising Casino
DESCRIPTION:Our 2018/2019 casino is being held October 28th and 29th\, 2019 and shifts range in times from 11am – 3:30am. \nThe casino is being held at Cash Casino 4040 Blackfoot Trail SE\, Calgary. \nPlease click here to sign up. \nThank you for supporting our Community Association – we use casino funding to maintain our facilities and fund community programmes.
URL:https://myglendale.ca/event/glendale-fundraising-casino/
LOCATION:AB
END:VEVENT
END:VCALENDAR